BEGIN:VCALENDAR
VERSION:2.0
PRODID:-//wp-events-plugin.com//7.2.3.1//EN
TZID:America/Chicago
X-WR-TIMEZONE:America/Chicago
BEGIN:VEVENT
UID:2@ramsmn.org
DTSTART;TZID=America/Chicago:20250415T140000
DTEND;TZID=America/Chicago:20250415T160000
DTSTAMP:20250205T020723Z
URL:https://www.ramsmn.org/events/board-meeting/
SUMMARY:Board Meeting
DESCRIPTION:
LOCATION:Northeast Service Co-Operative\, 5525 Emerald Ave\, Mountain Iron\
 , MN\, 55768\, United States
X-APPLE-STRUCTURED-LOCATION;VALUE=URI;X-ADDRESS=5525 Emerald Ave\, Mountain
  Iron\, MN\, 55768\, United States;X-APPLE-RADIUS=100;X-TITLE=Northeast Se
 rvice Co-Operative:geo:0,0
END:VEVENT
BEGIN:VTIMEZONE
TZID:America/Chicago
X-LIC-LOCATION:America/Chicago
BEGIN:DAYLIGHT
DTSTART:20250309T030000
TZOFFSETFROM:-0600
TZOFFSETTO:-0500
TZNAME:CDT
END:DAYLIGHT
END:VTIMEZONE
END:VCALENDAR